BEGIN:VCALENDAR
VERSION:2.0
PRODID:Imitheme.com 
BEGIN:VEVENT
UID:20260423T112346681570849
DTSTAMP;TZID=UTC:2026-04-23 11:23:46
DTSTART;TZID=America/Los_Angeles:20260423T112346
DTEND;TZID=America/Los_Angeles:20260423T112346
SUMMARY:Adult/Youth Sunday School
LOCATION:Fellowship Hall
DESCRIPTION:All welcome
URL:https://thopinternational.org/eventer/teen-adult-sunday-school/
END:VEVENT
END:VCALENDAR
