BEGIN:VCALENDAR
VERSION:2.0
PRODID:Imitheme.com 
BEGIN:VEVENT
UID:20260420T0350131687380057
DTSTAMP;TZID=UTC:2026-04-20 03:50:13
DTSTART;TZID=America/Los_Angeles:20260420T035013
DTEND;TZID=America/Los_Angeles:20260420T035013
SUMMARY:Sunday Service
LOCATION:Sanctuary
DESCRIPTION:All welcome
URL:https://thopinternational.org/eventer/sunday-service/
END:VEVENT
END:VCALENDAR
