BEGIN:VCALENDAR
VERSION:2.0
PRODID:Imitheme.com 
BEGIN:VEVENT
UID:20260420T0356271850550830
DTSTAMP;TZID=UTC:2026-04-20 03:56:27
DTSTART;TZID=America/Los_Angeles:20260420T035627
DTEND;TZID=America/Los_Angeles:20260420T035627
SUMMARY:Adult/Youth Sunday School
LOCATION:Fellowship Hall
DESCRIPTION:All welcome
URL:https://thopinternational.org/eventer/teen-adult-sunday-school/
END:VEVENT
END:VCALENDAR
